BEGIN:VCALENDAR
VERSION:2.0
PRODID:icalendar-ruby
CALSCALE:GREGORIAN
METHOD:PUBLISH
BEGIN:VEVENT
DTSTAMP:20260423T222244Z
UID:9-1156451@tabernacleoftheword.com
DTSTART:20260927T150000Z
DTEND:20260927T153000Z
CLASS:PUBLIC
CREATED:20260423T143043
DESCRIPTION:
LAST-MODIFIED:20260423T143043
LOCATION:Tabernacle of the Word Church
SUMMARY:Sunday School
URL;VALUE=URI:https://tabernacleoftheword.com/events/sunday-school/2026-09-
 27
END:VEVENT
END:VCALENDAR
