BEGIN:VCALENDAR
VERSION:2.0
PRODID:icalendar-ruby
CALSCALE:GREGORIAN
METHOD:PUBLISH
BEGIN:VEVENT
DTSTAMP:20260423T234201Z
UID:9-1157013@tabernacleoftheword.com
DTSTART:20261004T150000Z
DTEND:20261004T153000Z
CLASS:PUBLIC
CREATED:20260423T172455
DESCRIPTION:
LAST-MODIFIED:20260423T172455
LOCATION:Tabernacle of the Word Church
SUMMARY:Sunday School
URL;VALUE=URI:https://tabernacleoftheword.com/events/sunday-school/2026-10-
 04
END:VEVENT
END:VCALENDAR
