BEGIN:VCALENDAR
VERSION:2.0
PRODID:icalendar-ruby
CALSCALE:GREGORIAN
METHOD:PUBLISH
BEGIN:VEVENT
DTSTAMP:20260424T015341Z
UID:9-1157576@tabernacleoftheword.com
DTSTART:20261018T150000Z
DTEND:20261018T153000Z
CLASS:PUBLIC
CREATED:20260423T201804
DESCRIPTION:
LAST-MODIFIED:20260423T201804
LOCATION:Tabernacle of the Word Church
SUMMARY:Sunday School
URL;VALUE=URI:https://tabernacleoftheword.com/events/sunday-school/2026-10-
 18
END:VEVENT
END:VCALENDAR
