BEGIN:VCALENDAR
VERSION:2.0
PRODID:icalendar-ruby
CALSCALE:GREGORIAN
METHOD:PUBLISH
BEGIN:VEVENT
DTSTAMP:20260424T030226Z
UID:9-1157577@tabernacleoftheword.com
DTSTART:20261025T150000Z
DTEND:20261025T153000Z
CLASS:PUBLIC
CREATED:20260423T201804
DESCRIPTION:
LAST-MODIFIED:20260423T201804
LOCATION:Tabernacle of the Word Church
SUMMARY:Sunday School
URL;VALUE=URI:https://tabernacleoftheword.com/events/sunday-school/2026-10-
 25
END:VEVENT
END:VCALENDAR
