BEGIN:VCALENDAR
VERSION:2.0
PRODID:icalendar-ruby
CALSCALE:GREGORIAN
METHOD:PUBLISH
BEGIN:VEVENT
DTSTAMP:20260423T215127Z
UID:10-1156586@tabernacleoftheword.com
DTSTART:20260927T160000Z
DTEND:20260927T180000Z
CLASS:PUBLIC
CREATED:20260423T143043
DESCRIPTION:
LAST-MODIFIED:20260423T143043
LOCATION:Tabernacle of the Word Church
SUMMARY:Worship Service
URL;VALUE=URI:https://tabernacleoftheword.com/events/worship-service--10/20
 26-09-27
END:VEVENT
END:VCALENDAR
