BEGIN:VCALENDAR
VERSION:2.0
PRODID:icalendar-ruby
CALSCALE:GREGORIAN
METHOD:PUBLISH
BEGIN:VEVENT
DTSTAMP:20260423T231617Z
UID:10-1157148@tabernacleoftheword.com
DTSTART:20261004T160000Z
DTEND:20261004T180000Z
CLASS:PUBLIC
CREATED:20260423T172456
DESCRIPTION:
LAST-MODIFIED:20260423T172456
LOCATION:Tabernacle of the Word Church
SUMMARY:Worship Service
URL;VALUE=URI:https://tabernacleoftheword.com/events/worship-service--10/20
 26-10-04
END:VEVENT
END:VCALENDAR
