BEGIN:VCALENDAR
VERSION:2.0
PRODID:icalendar-ruby
CALSCALE:GREGORIAN
METHOD:PUBLISH
BEGIN:VEVENT
DTSTAMP:20260424T002403Z
UID:10-1157149@tabernacleoftheword.com
DTSTART:20261011T160000Z
DTEND:20261011T180000Z
CLASS:PUBLIC
CREATED:20260423T172456
DESCRIPTION:
LAST-MODIFIED:20260423T172456
LOCATION:Tabernacle of the Word Church
SUMMARY:Worship Service
URL;VALUE=URI:https://tabernacleoftheword.com/events/worship-service--10/20
 26-10-11
END:VEVENT
END:VCALENDAR
