BEGIN:VCALENDAR
VERSION:2.0
PRODID:icalendar-ruby
CALSCALE:GREGORIAN
METHOD:PUBLISH
BEGIN:VEVENT
DTSTAMP:20260424T030510Z
UID:10-1157712@tabernacleoftheword.com
DTSTART:20261025T160000Z
DTEND:20261025T180000Z
CLASS:PUBLIC
CREATED:20260423T201804
DESCRIPTION:
LAST-MODIFIED:20260423T201804
LOCATION:Tabernacle of the Word Church
SUMMARY:Worship Service
URL;VALUE=URI:https://tabernacleoftheword.com/events/worship-service--10/20
 26-10-25
END:VEVENT
END:VCALENDAR
